BEGIN:VCALENDAR
VERSION:2.0
PRODID:-//Tukios.com/
BEGIN:VEVENT
UID:c1eedf41-23ba-4b22-9d47-12a03f1ba0c6@www.robertsondrago.com
DTSTAMP:20260423T180834Z
DTSTART:20260425T190000Z
DTEND:20260425T200000Z
SUMMARY:Graveside Service
DESCRIPTION:
URL:https://www.robertsondrago.com/obituaries/frances-lachapelle
LOCATION: 1101 Amyx Ave  West Plains MO 65775
GEO:36.7239773;-91.8421968
END:VEVENT
END:VCALENDAR